BEGIN:VCALENDAR
VERSION:2.0
PRODID:-//Christen - ECPv4.4.4//NONSGML v1.0//EN
CALSCALE:GREGORIAN
METHOD:PUBLISH
X-WR-CALNAME:Christen
X-ORIGINAL-URL:https://christen-im-bezirk-oberwart.at
X-WR-CALDESC:Events for Christen
BEGIN:VEVENT
DTSTART;TZID=UTC+1:20260329T090000
DTEND;TZID=UTC+1:20260329T100000
DTSTAMP:20260424T001811
CREATED:20260216T132753Z
LAST-MODIFIED:20260216T132753Z
UID:6654-1774774800-1774778400@christen-im-bezirk-oberwart.at
SUMMARY:Leitung: Dieter R.
DESCRIPTION:
URL:https://christen-im-bezirk-oberwart.at/event/leitung-dieter-r-5/
END:VEVENT
BEGIN:VEVENT
DTSTART;TZID=UTC+1:20260329T100000
DTEND;TZID=UTC+1:20260329T110000
DTSTAMP:20260424T001811
CREATED:20260216T132841Z
LAST-MODIFIED:20260216T132841Z
UID:6656-1774778400-1774782000@christen-im-bezirk-oberwart.at
SUMMARY:Predigt: Felix S.
DESCRIPTION:
URL:https://christen-im-bezirk-oberwart.at/event/predigt-felix-s-3/
END:VEVENT
BEGIN:VEVENT
DTSTART;TZID=UTC+1:20260330T143000
DTEND;TZID=UTC+1:20260330T180000
DTSTAMP:20260424T001811
CREATED:20260216T133056Z
LAST-MODIFIED:20260216T133056Z
UID:6658-1774881000-1774893600@christen-im-bezirk-oberwart.at
SUMMARY:Frauenkreis
DESCRIPTION:
URL:https://christen-im-bezirk-oberwart.at/event/frauenkreis-9/
END:VEVENT
BEGIN:VEVENT
DTSTART;TZID=UTC+1:20260403T183000
DTEND;TZID=UTC+1:20260403T200000
DTSTAMP:20260424T001811
CREATED:20260326T142158Z
LAST-MODIFIED:20260326T142158Z
UID:6748-1775241000-1775246400@christen-im-bezirk-oberwart.at
SUMMARY:Bibelstunde: (Dieter R.)
DESCRIPTION:
URL:https://christen-im-bezirk-oberwart.at/event/bibelstunde-dieter-r-5/
END:VEVENT
BEGIN:VEVENT
DTSTART;TZID=UTC+1:20260405T090000
DTEND;TZID=UTC+1:20260405T100000
DTSTAMP:20260424T001811
CREATED:20260326T134653Z
LAST-MODIFIED:20260326T134653Z
UID:6729-1775379600-1775383200@christen-im-bezirk-oberwart.at
SUMMARY:Leitung: Kurt B.
DESCRIPTION:
URL:https://christen-im-bezirk-oberwart.at/event/leitung-kurt-b-4/
END:VEVENT
BEGIN:VEVENT
DTSTART;TZID=UTC+1:20260405T100000
DTEND;TZID=UTC+1:20260405T110000
DTSTAMP:20260424T001811
CREATED:20260326T134930Z
LAST-MODIFIED:20260326T135130Z
UID:6735-1775383200-1775386800@christen-im-bezirk-oberwart.at
SUMMARY:Freie Beteiligung / Essen
DESCRIPTION:
URL:https://christen-im-bezirk-oberwart.at/event/leitung-dieter-r-6/
END:VEVENT
BEGIN:VEVENT
DTSTART;TZID=UTC+1:20260410T183000
DTEND;TZID=UTC+1:20260410T200000
DTSTAMP:20260424T001811
CREATED:20260326T142349Z
LAST-MODIFIED:20260326T142349Z
UID:6752-1775845800-1775851200@christen-im-bezirk-oberwart.at
SUMMARY:Gebetsstunde
DESCRIPTION:
URL:https://christen-im-bezirk-oberwart.at/event/gebetsstunde-11/
END:VEVENT
BEGIN:VEVENT
DTSTART;TZID=UTC+1:20260412T090000
DTEND;TZID=UTC+1:20260412T100000
DTSTAMP:20260424T001811
CREATED:20260326T134808Z
LAST-MODIFIED:20260326T134808Z
UID:6731-1775984400-1775988000@christen-im-bezirk-oberwart.at
SUMMARY:Leitung: Christian P.
DESCRIPTION:
URL:https://christen-im-bezirk-oberwart.at/event/leitung-christian-p-6/
END:VEVENT
BEGIN:VEVENT
DTSTART;TZID=UTC+1:20260412T100000
DTEND;TZID=UTC+1:20260412T110000
DTSTAMP:20260424T001811
CREATED:20260326T135257Z
LAST-MODIFIED:20260326T135257Z
UID:6739-1775988000-1775991600@christen-im-bezirk-oberwart.at
SUMMARY:Predigt: Kurt B.
DESCRIPTION:
URL:https://christen-im-bezirk-oberwart.at/event/predigt-kurt-b-4/
END:VEVENT
BEGIN:VEVENT
DTSTART;TZID=UTC+1:20260413T153000
DTEND;TZID=UTC+1:20260413T170000
DTSTAMP:20260424T001811
CREATED:20260326T145056Z
LAST-MODIFIED:20260326T145056Z
UID:6760-1776094200-1776099600@christen-im-bezirk-oberwart.at
SUMMARY:Frauenkreis
DESCRIPTION:
URL:https://christen-im-bezirk-oberwart.at/event/frauenkreis-11/
END:VEVENT
BEGIN:VEVENT
DTSTART;TZID=UTC+1:20260417T183000
DTEND;TZID=UTC+1:20260417T200000
DTSTAMP:20260424T001811
CREATED:20260326T142255Z
LAST-MODIFIED:20260326T142255Z
UID:6750-1776450600-1776456000@christen-im-bezirk-oberwart.at
SUMMARY:Bibelstunde: (Kurt B.)
DESCRIPTION:
URL:https://christen-im-bezirk-oberwart.at/event/bibelstunde-kurt-b-5/
END:VEVENT
BEGIN:VEVENT
DTSTART;TZID=UTC+1:20260419T090000
DTEND;TZID=UTC+1:20260419T100000
DTSTAMP:20260424T001811
CREATED:20260326T134855Z
LAST-MODIFIED:20260326T134855Z
UID:6733-1776589200-1776592800@christen-im-bezirk-oberwart.at
SUMMARY:Leitung: Felix S.
DESCRIPTION:
URL:https://christen-im-bezirk-oberwart.at/event/leitung-felix-s-5/
END:VEVENT
BEGIN:VEVENT
DTSTART;TZID=UTC+1:20260419T100000
DTEND;TZID=UTC+1:20260419T110000
DTSTAMP:20260424T001811
CREATED:20260326T135602Z
LAST-MODIFIED:20260326T135620Z
UID:6743-1776592800-1776596400@christen-im-bezirk-oberwart.at
SUMMARY:Predigt: Dieter R.
DESCRIPTION:
URL:https://christen-im-bezirk-oberwart.at/event/predigt-dieter/
END:VEVENT
BEGIN:VEVENT
DTSTART;TZID=UTC+1:20260420T153000
DTEND;TZID=UTC+1:20260420T170000
DTSTAMP:20260424T001811
CREATED:20260326T145123Z
LAST-MODIFIED:20260326T145123Z
UID:6762-1776699000-1776704400@christen-im-bezirk-oberwart.at
SUMMARY:Frauenkreis
DESCRIPTION:
URL:https://christen-im-bezirk-oberwart.at/event/frauenkreis-12/
END:VEVENT
BEGIN:VEVENT
DTSTART;TZID=UTC+1:20260424T183000
DTEND;TZID=UTC+1:20260424T200000
DTSTAMP:20260424T001811
CREATED:20260326T142517Z
LAST-MODIFIED:20260326T142517Z
UID:6754-1777055400-1777060800@christen-im-bezirk-oberwart.at
SUMMARY:Gebetsstunde
DESCRIPTION:
URL:https://christen-im-bezirk-oberwart.at/event/gebetsstunde-12/
END:VEVENT
BEGIN:VEVENT
DTSTART;TZID=UTC+1:20260425T130000
DTEND;TZID=UTC+1:20260425T160000
DTSTAMP:20260424T001811
CREATED:20260402T183932Z
LAST-MODIFIED:20260402T183932Z
UID:6781-1777122000-1777132800@christen-im-bezirk-oberwart.at
SUMMARY:Töpferarbeiten
DESCRIPTION:
URL:https://christen-im-bezirk-oberwart.at/event/toepferarbeiten/
END:VEVENT
BEGIN:VEVENT
DTSTART;TZID=UTC+1:20260426T090000
DTEND;TZID=UTC+1:20260426T100000
DTSTAMP:20260424T001811
CREATED:20260326T135452Z
LAST-MODIFIED:20260326T135452Z
UID:6741-1777194000-1777197600@christen-im-bezirk-oberwart.at
SUMMARY:Leitung: Dieter R.
DESCRIPTION:
URL:https://christen-im-bezirk-oberwart.at/event/leitung-dieter-r-7/
END:VEVENT
BEGIN:VEVENT
DTSTART;TZID=UTC+1:20260426T100000
DTEND;TZID=UTC+1:20260426T110000
DTSTAMP:20260424T001811
CREATED:20260326T135655Z
LAST-MODIFIED:20260326T135655Z
UID:6746-1777197600-1777201200@christen-im-bezirk-oberwart.at
SUMMARY:Predigt: Jonathan P.
DESCRIPTION:
URL:https://christen-im-bezirk-oberwart.at/event/predigt-jonathan-p-4/
END:VEVENT
BEGIN:VEVENT
DTSTART;TZID=UTC+1:20260427T153000
DTEND;TZID=UTC+1:20260427T170000
DTSTAMP:20260424T001811
CREATED:20260326T145222Z
LAST-MODIFIED:20260326T145222Z
UID:6764-1777303800-1777309200@christen-im-bezirk-oberwart.at
SUMMARY:Frauenkreis
DESCRIPTION:
URL:https://christen-im-bezirk-oberwart.at/event/frauenkreis-13/
END:VEVENT
BEGIN:VEVENT
DTSTART;TZID=UTC+1:20260501T183000
DTEND;TZID=UTC+1:20260501T200000
DTSTAMP:20260424T001811
CREATED:20260421T120414Z
LAST-MODIFIED:20260421T120414Z
UID:6824-1777660200-1777665600@christen-im-bezirk-oberwart.at
SUMMARY:Bibelstunde: (Dieter R.)
DESCRIPTION:
URL:https://christen-im-bezirk-oberwart.at/event/bibelstunde-dieter-r-6/
END:VEVENT
END:VCALENDAR