BEGIN:VCALENDAR
VERSION:2.0
PRODID:-//Christen - ECPv4.4.4//NONSGML v1.0//EN
CALSCALE:GREGORIAN
METHOD:PUBLISH
X-WR-CALNAME:Christen
X-ORIGINAL-URL:https://christen-im-bezirk-oberwart.at
X-WR-CALDESC:Events for Christen
BEGIN:VEVENT
DTSTART;TZID=UTC+1:20260524T100000
DTEND;TZID=UTC+1:20260524T110000
DTSTAMP:20260423T184132
CREATED:20260421T115351Z
LAST-MODIFIED:20260421T115351Z
UID:6812-1779616800-1779620400@christen-im-bezirk-oberwart.at
SUMMARY:Predigt: Dieter R.
DESCRIPTION:
URL:https://christen-im-bezirk-oberwart.at/event/predigt-dieter-r-5/
END:VEVENT
END:VCALENDAR