BEGIN:VCALENDAR
VERSION:2.0
PRODID:-//Christen - ECPv4.4.4//NONSGML v1.0//EN
CALSCALE:GREGORIAN
METHOD:PUBLISH
X-WR-CALNAME:Christen
X-ORIGINAL-URL:https://christen-im-bezirk-oberwart.at
X-WR-CALDESC:Events for Christen
BEGIN:VEVENT
DTSTART;TZID=UTC+1:20260508T183000
DTEND;TZID=UTC+1:20260508T200000
DTSTAMP:20260423T164041
CREATED:20260421T120507Z
LAST-MODIFIED:20260421T120507Z
UID:6826-1778265000-1778270400@christen-im-bezirk-oberwart.at
SUMMARY:Gebetsstunde
DESCRIPTION:
URL:https://christen-im-bezirk-oberwart.at/event/gebetsstunde-13/
END:VEVENT
END:VCALENDAR