BEGIN:VCALENDAR
VERSION:2.0
PRODID:-//Christen - ECPv4.4.4//NONSGML v1.0//EN
CALSCALE:GREGORIAN
METHOD:PUBLISH
X-WR-CALNAME:Christen
X-ORIGINAL-URL:https://christen-im-bezirk-oberwart.at
X-WR-CALDESC:Events for Christen
BEGIN:VEVENT
DTSTART;TZID=UTC+1:20260518T153000
DTEND;TZID=UTC+1:20260518T170000
DTSTAMP:20260423T184004
CREATED:20260421T120147Z
LAST-MODIFIED:20260421T120147Z
UID:6820-1779118200-1779123600@christen-im-bezirk-oberwart.at
SUMMARY:Frauenkreis
DESCRIPTION:
URL:https://christen-im-bezirk-oberwart.at/event/frauenkreis-15/
END:VEVENT
END:VCALENDAR