BEGIN:VCALENDAR
VERSION:2.0
PRODID:-//Christen - ECPv4.4.4//NONSGML v1.0//EN
CALSCALE:GREGORIAN
METHOD:PUBLISH
X-WR-CALNAME:Christen
X-ORIGINAL-URL:https://christen-im-bezirk-oberwart.at
X-WR-CALDESC:Events for Christen
BEGIN:VEVENT
DTSTART;TZID=UTC+1:20260504T153000
DTEND;TZID=UTC+1:20260504T170000
DTSTAMP:20260423T164935
CREATED:20260421T115805Z
LAST-MODIFIED:20260421T120119Z
UID:6816-1777908600-1777914000@christen-im-bezirk-oberwart.at
SUMMARY:Frauenkreis
DESCRIPTION:
URL:https://christen-im-bezirk-oberwart.at/event/frauenkreis-10/
END:VEVENT
END:VCALENDAR