BEGIN:VCALENDAR
VERSION:2.0
PRODID:-//Christen - ECPv4.4.4//NONSGML v1.0//EN
CALSCALE:GREGORIAN
METHOD:PUBLISH
X-WR-CALNAME:Christen
X-ORIGINAL-URL:https://christen-im-bezirk-oberwart.at
X-WR-CALDESC:Events for Christen
BEGIN:VEVENT
DTSTART;TZID=UTC+1:20191004T183000
DTEND;TZID=UTC+1:20191004T203000
DTSTAMP:20260426T041526
CREATED:20181017T090951Z
LAST-MODIFIED:20190916T071838Z
UID:5202-1570213800-1570221000@christen-im-bezirk-oberwart.at
SUMMARY:Bibelkreis Oberwart
DESCRIPTION:Thema; Die Lehre und das Wirken Jesu Christi anhand der vier Evangelien
URL:https://christen-im-bezirk-oberwart.at/event/bibelkreis-oberwart-37/
END:VEVENT
END:VCALENDAR